BEGIN:VCALENDAR
VERSION:2.0
PRODID:-//Juan Carlos Navarro - ECPv5.8.1//NONSGML v1.0//EN
CALSCALE:GREGORIAN
METHOD:PUBLISH
X-WR-CALNAME:Juan Carlos Navarro
X-ORIGINAL-URL:https://www.carlosnavarro.de
X-WR-CALDESC:Events for Juan Carlos Navarro
BEGIN:VTIMEZONE
TZID:Europe/Berlin
BEGIN:DAYLIGHT
TZOFFSETFROM:+0100
TZOFFSETTO:+0200
TZNAME:CEST
DTSTART:20180325T010000
END:DAYLIGHT
BEGIN:STANDARD
TZOFFSETFROM:+0200
TZOFFSETTO:+0100
TZNAME:CET
DTSTART:20181028T010000
END:STANDARD
END:VTIMEZONE
BEGIN:VEVENT
DTSTART;TZID=Europe/Berlin:20181109T193000
DTEND;TZID=Europe/Berlin:20181109T193000
DTSTAMP:20260422T041043
CREATED:20180502T211206Z
LAST-MODIFIED:20180828T074513Z
UID:480-1541791800-1541791800@www.carlosnavarro.de
SUMMARY:Ahlen
DESCRIPTION:
URL:https://www.carlosnavarro.de/termin/ahlen/
LOCATION:Saal Sandgathe\, Südstraße 4\, Ahlen\, 59227
END:VEVENT
END:VCALENDAR