BEGIN:VCALENDAR
VERSION:2.0
PRODID:-//Juan Carlos Navarro - ECPv5.8.1//NONSGML v1.0//EN
CALSCALE:GREGORIAN
METHOD:PUBLISH
X-WR-CALNAME:Juan Carlos Navarro
X-ORIGINAL-URL:https://www.carlosnavarro.de
X-WR-CALDESC:Events for Juan Carlos Navarro
BEGIN:VTIMEZONE
TZID:Europe/Berlin
BEGIN:DAYLIGHT
TZOFFSETFROM:+0100
TZOFFSETTO:+0200
TZNAME:CEST
DTSTART:20210328T010000
END:DAYLIGHT
BEGIN:STANDARD
TZOFFSETFROM:+0200
TZOFFSETTO:+0100
TZNAME:CET
DTSTART:20211031T010000
END:STANDARD
END:VTIMEZONE
BEGIN:VEVENT
DTSTART;TZID=Europe/Berlin:20210821T190000
DTEND;TZID=Europe/Berlin:20210821T210000
DTSTAMP:20260421T030421
CREATED:20210802T200044Z
LAST-MODIFIED:20210802T200044Z
UID:1133-1629572400-1629579600@www.carlosnavarro.de
SUMMARY:Bochum - Kunstmuseum
DESCRIPTION:Mit Felicitas Stephan (Cello)
URL:https://www.carlosnavarro.de/termin/bochum-kunstmuseum/
LOCATION:Kunstmuseum Bochum\, Kortumstraße 147\, Bochum\, 44787
END:VEVENT
END:VCALENDAR