BEGIN:VCALENDAR
VERSION:2.0
PRODID:-//Juan Carlos Navarro - ECPv5.8.1//NONSGML v1.0//EN
CALSCALE:GREGORIAN
METHOD:PUBLISH
X-WR-CALNAME:Juan Carlos Navarro
X-ORIGINAL-URL:https://www.carlosnavarro.de
X-WR-CALDESC:Events for Juan Carlos Navarro
BEGIN:VTIMEZONE
TZID:Europe/Berlin
BEGIN:DAYLIGHT
TZOFFSETFROM:+0100
TZOFFSETTO:+0200
TZNAME:CEST
DTSTART:20170326T010000
END:DAYLIGHT
BEGIN:STANDARD
TZOFFSETFROM:+0200
TZOFFSETTO:+0100
TZNAME:CET
DTSTART:20171029T010000
END:STANDARD
END:VTIMEZONE
BEGIN:VEVENT
DTSTART;VALUE=DATE:20171201
DTEND;VALUE=DATE:20171202
DTSTAMP:20260422T072401
CREATED:20170919T115024Z
LAST-MODIFIED:20171122T122531Z
UID:129-1512086400-1512172799@www.carlosnavarro.de
SUMMARY:Düsseldorf (Viva la Guitarra!)
DESCRIPTION:
URL:https://www.carlosnavarro.de/termin/duesseldorf-viva-la-guitarra/
END:VEVENT
END:VCALENDAR