BEGIN:VCALENDAR
VERSION:2.0
PRODID:-//Juan Carlos Navarro - ECPv5.8.1//NONSGML v1.0//EN
CALSCALE:GREGORIAN
METHOD:PUBLISH
X-WR-CALNAME:Juan Carlos Navarro
X-ORIGINAL-URL:https://www.carlosnavarro.de
X-WR-CALDESC:Events for Juan Carlos Navarro
BEGIN:VTIMEZONE
TZID:Europe/Berlin
BEGIN:DAYLIGHT
TZOFFSETFROM:+0100
TZOFFSETTO:+0200
TZNAME:CEST
DTSTART:20210328T010000
END:DAYLIGHT
BEGIN:STANDARD
TZOFFSETFROM:+0200
TZOFFSETTO:+0100
TZNAME:CET
DTSTART:20211031T010000
END:STANDARD
END:VTIMEZONE
BEGIN:VEVENT
DTSTART;TZID=Europe/Berlin:20210313T190000
DTEND;TZID=Europe/Berlin:20210313T210000
DTSTAMP:20260421T191023
CREATED:20210222T205128Z
LAST-MODIFIED:20210310T114432Z
UID:880-1615662000-1615669200@www.carlosnavarro.de
SUMMARY:Ellwangen
DESCRIPTION:Palais Adelman – Solo Recital \nAbgesagt – Auf 2022 verschoben
URL:https://www.carlosnavarro.de/termin/ellwangen-2/
END:VEVENT
END:VCALENDAR