BEGIN:VCALENDAR
VERSION:2.0
PRODID:-//Juan Carlos Navarro - ECPv5.8.1//NONSGML v1.0//EN
CALSCALE:GREGORIAN
METHOD:PUBLISH
X-WR-CALNAME:Juan Carlos Navarro
X-ORIGINAL-URL:https://www.carlosnavarro.de
X-WR-CALDESC:Events for Juan Carlos Navarro
BEGIN:VTIMEZONE
TZID:Europe/Berlin
BEGIN:DAYLIGHT
TZOFFSETFROM:+0100
TZOFFSETTO:+0200
TZNAME:CEST
DTSTART:20180325T010000
END:DAYLIGHT
BEGIN:STANDARD
TZOFFSETFROM:+0200
TZOFFSETTO:+0100
TZNAME:CET
DTSTART:20181028T010000
END:STANDARD
END:VTIMEZONE
BEGIN:VEVENT
DTSTART;TZID=Europe/Berlin:20181125T180000
DTEND;TZID=Europe/Berlin:20181125T200000
DTSTAMP:20260422T041304
CREATED:20180828T080558Z
LAST-MODIFIED:20180828T080558Z
UID:507-1543168800-1543176000@www.carlosnavarro.de
SUMMARY:Gitarrenfestival Dortmund
DESCRIPTION:Prof. Thomas Müller-Pering
URL:https://www.carlosnavarro.de/termin/gitarrenfestival-dortmund-3/
LOCATION:Torhaus-Dortmund
END:VEVENT
END:VCALENDAR