BEGIN:VCALENDAR
VERSION:2.0
PRODID:-//Juan Carlos Navarro - ECPv5.8.1//NONSGML v1.0//EN
CALSCALE:GREGORIAN
METHOD:PUBLISH
X-WR-CALNAME:Juan Carlos Navarro
X-ORIGINAL-URL:https://www.carlosnavarro.de
X-WR-CALDESC:Events for Juan Carlos Navarro
BEGIN:VTIMEZONE
TZID:Europe/Berlin
BEGIN:DAYLIGHT
TZOFFSETFROM:+0100
TZOFFSETTO:+0200
TZNAME:CEST
DTSTART:20210328T010000
END:DAYLIGHT
BEGIN:STANDARD
TZOFFSETFROM:+0200
TZOFFSETTO:+0100
TZNAME:CET
DTSTART:20211031T010000
END:STANDARD
END:VTIMEZONE
BEGIN:VEVENT
DTSTART;TZID=Europe/Berlin:20210917T193000
DTEND;TZID=Europe/Berlin:20210917T213000
DTSTAMP:20260421T152836
CREATED:20210802T201207Z
LAST-MODIFIED:20210802T201207Z
UID:1141-1631907000-1631914200@www.carlosnavarro.de
SUMMARY:Gitarrenfestival Dortmund
DESCRIPTION:Eröffnungskonzert von Carlo Marchione (Italien)
URL:https://www.carlosnavarro.de/termin/gitarrenfestival-dortmund-5/
LOCATION:Museum für Kunst und Kulturgeschichte\, Hansastr. 3\, Dortmund\, 44137
END:VEVENT
END:VCALENDAR