BEGIN:VCALENDAR
VERSION:2.0
PRODID:-//Juan Carlos Navarro - ECPv5.8.1//NONSGML v1.0//EN
CALSCALE:GREGORIAN
METHOD:PUBLISH
X-WR-CALNAME:Juan Carlos Navarro
X-ORIGINAL-URL:https://www.carlosnavarro.de
X-WR-CALDESC:Events for Juan Carlos Navarro
BEGIN:VTIMEZONE
TZID:Europe/Berlin
BEGIN:DAYLIGHT
TZOFFSETFROM:+0100
TZOFFSETTO:+0200
TZNAME:CEST
DTSTART:20180325T010000
END:DAYLIGHT
BEGIN:STANDARD
TZOFFSETFROM:+0200
TZOFFSETTO:+0100
TZNAME:CET
DTSTART:20181028T010000
END:STANDARD
END:VTIMEZONE
BEGIN:VEVENT
DTSTART;TZID=Europe/Berlin:20181123T193000
DTEND;TZID=Europe/Berlin:20181123T220000
DTSTAMP:20260422T024351
CREATED:20180502T211417Z
LAST-MODIFIED:20180828T080306Z
UID:486-1543001400-1543010400@www.carlosnavarro.de
SUMMARY:Gitarrenfestival Dortmund
DESCRIPTION:Eröffnungskonzert des 2. Gitarrenfestival Dortmund \nDuo Montesinos-Tamayo aus Salzburg
URL:https://www.carlosnavarro.de/termin/gitarrenfestival-dortmund/
LOCATION:St. Marienkirche\, Kleppingstraße 5\, Dortmund\, 44135\, Deutschland
END:VEVENT
END:VCALENDAR