BEGIN:VCALENDAR
VERSION:2.0
PRODID:-//Juan Carlos Navarro - ECPv5.8.1//NONSGML v1.0//EN
CALSCALE:GREGORIAN
METHOD:PUBLISH
X-WR-CALNAME:Juan Carlos Navarro
X-ORIGINAL-URL:https://www.carlosnavarro.de
X-WR-CALDESC:Events for Juan Carlos Navarro
BEGIN:VTIMEZONE
TZID:Europe/Berlin
BEGIN:DAYLIGHT
TZOFFSETFROM:+0100
TZOFFSETTO:+0200
TZNAME:CEST
DTSTART:20200329T010000
END:DAYLIGHT
BEGIN:STANDARD
TZOFFSETFROM:+0200
TZOFFSETTO:+0100
TZNAME:CET
DTSTART:20201025T010000
END:STANDARD
END:VTIMEZONE
BEGIN:VEVENT
DTSTART;TZID=Europe/Berlin:20200813T180000
DTEND;TZID=Europe/Berlin:20200813T193000
DTSTAMP:20260421T215711
CREATED:20200802T094608Z
LAST-MODIFIED:20200802T094608Z
UID:743-1597341600-1597347000@www.carlosnavarro.de
SUMMARY:Hagen
DESCRIPTION:Emil Schuhmacher Museum \nUm Reservierung wird gebeten unter info@esmh.de
URL:https://www.carlosnavarro.de/termin/hagen-2/
LOCATION:Emil Schuhmacher Museum
END:VEVENT
END:VCALENDAR