BEGIN:VCALENDAR
VERSION:2.0
PRODID:-//Juan Carlos Navarro - ECPv5.8.1//NONSGML v1.0//EN
CALSCALE:GREGORIAN
METHOD:PUBLISH
X-WR-CALNAME:Juan Carlos Navarro
X-ORIGINAL-URL:https://www.carlosnavarro.de
X-WR-CALDESC:Events for Juan Carlos Navarro
BEGIN:VTIMEZONE
TZID:Europe/Berlin
BEGIN:DAYLIGHT
TZOFFSETFROM:+0100
TZOFFSETTO:+0200
TZNAME:CEST
DTSTART:20210328T010000
END:DAYLIGHT
BEGIN:STANDARD
TZOFFSETFROM:+0200
TZOFFSETTO:+0100
TZNAME:CET
DTSTART:20211031T010000
END:STANDARD
END:VTIMEZONE
BEGIN:VEVENT
DTSTART;TZID=Europe/Berlin:20210819T180000
DTEND;TZID=Europe/Berlin:20210819T193000
DTSTAMP:20260421T041820
CREATED:20210802T195727Z
LAST-MODIFIED:20210802T203046Z
UID:1131-1629396000-1629401400@www.carlosnavarro.de
SUMMARY:Hagen
DESCRIPTION:Mit Felicitas Stephan (Cello)
URL:https://www.carlosnavarro.de/termin/hagen-emil-schumacher-museum/
LOCATION:Emil Schumacher Museum\, Museumsplatz 1\, Hagen\, 58095
END:VEVENT
END:VCALENDAR