BEGIN:VCALENDAR
VERSION:2.0
PRODID:-//Juan Carlos Navarro - ECPv5.8.1//NONSGML v1.0//EN
CALSCALE:GREGORIAN
METHOD:PUBLISH
X-WR-CALNAME:Juan Carlos Navarro
X-ORIGINAL-URL:https://www.carlosnavarro.de
X-WR-CALDESC:Events for Juan Carlos Navarro
BEGIN:VTIMEZONE
TZID:America/Lima
BEGIN:STANDARD
TZOFFSETFROM:-0500
TZOFFSETTO:-0500
TZNAME:-05
DTSTART:20180101T000000
END:STANDARD
END:VTIMEZONE
BEGIN:VEVENT
DTSTART;TZID=America/Lima:20180706T193000
DTEND;TZID=America/Lima:20180706T193000
DTSTAMP:20260422T072038
CREATED:20180313T111646Z
LAST-MODIFIED:20180313T111646Z
UID:411-1530905400-1530905400@www.carlosnavarro.de
SUMMARY:Huaraz - Peru
DESCRIPTION:Konzert
URL:https://www.carlosnavarro.de/termin/huaraz-peru/
END:VEVENT
END:VCALENDAR