BEGIN:VCALENDAR
VERSION:2.0
PRODID:-//Juan Carlos Navarro - ECPv5.8.1//NONSGML v1.0//EN
CALSCALE:GREGORIAN
METHOD:PUBLISH
X-WR-CALNAME:Juan Carlos Navarro
X-ORIGINAL-URL:https://www.carlosnavarro.de
X-WR-CALDESC:Events for Juan Carlos Navarro
BEGIN:VTIMEZONE
TZID:Europe/Berlin
BEGIN:DAYLIGHT
TZOFFSETFROM:+0100
TZOFFSETTO:+0200
TZNAME:CEST
DTSTART:20180325T010000
END:DAYLIGHT
BEGIN:STANDARD
TZOFFSETFROM:+0200
TZOFFSETTO:+0100
TZNAME:CET
DTSTART:20181028T010000
END:STANDARD
END:VTIMEZONE
BEGIN:VEVENT
DTSTART;TZID=Europe/Berlin:20180723T000000
DTEND;TZID=Europe/Berlin:20180729T000000
DTSTAMP:20260422T053100
CREATED:20180502T210806Z
LAST-MODIFIED:20180502T210806Z
UID:475-1532304000-1532822400@www.carlosnavarro.de
SUMMARY:Iserlohn - Schwerte
DESCRIPTION:Jury beim Internationalen Wettbewerb des Gitarrensyposiums Iserlohn
URL:https://www.carlosnavarro.de/termin/iserlohn-schwerte/
END:VEVENT
END:VCALENDAR