BEGIN:VCALENDAR
VERSION:2.0
PRODID:-//Juan Carlos Navarro - ECPv5.8.1//NONSGML v1.0//EN
CALSCALE:GREGORIAN
METHOD:PUBLISH
X-WR-CALNAME:Juan Carlos Navarro
X-ORIGINAL-URL:https://www.carlosnavarro.de
X-WR-CALDESC:Events for Juan Carlos Navarro
BEGIN:VTIMEZONE
TZID:Europe/Berlin
BEGIN:DAYLIGHT
TZOFFSETFROM:+0100
TZOFFSETTO:+0200
TZNAME:CEST
DTSTART:20180325T010000
END:DAYLIGHT
BEGIN:STANDARD
TZOFFSETFROM:+0200
TZOFFSETTO:+0100
TZNAME:CET
DTSTART:20181028T010000
END:STANDARD
END:VTIMEZONE
BEGIN:VEVENT
DTSTART;TZID=Europe/Berlin:20181120T180000
DTEND;TZID=Europe/Berlin:20181120T200000
DTSTAMP:20260422T023945
CREATED:20180828T075658Z
LAST-MODIFIED:20180828T075758Z
UID:498-1542736800-1542744000@www.carlosnavarro.de
SUMMARY:Iserlohn
DESCRIPTION:Mit dem Arie Duo
URL:https://www.carlosnavarro.de/termin/iserlohn/
END:VEVENT
END:VCALENDAR