BEGIN:VCALENDAR
VERSION:2.0
PRODID:-//Juan Carlos Navarro - ECPv5.8.1//NONSGML v1.0//EN
CALSCALE:GREGORIAN
METHOD:PUBLISH
X-WR-CALNAME:Juan Carlos Navarro
X-ORIGINAL-URL:https://www.carlosnavarro.de
X-WR-CALDESC:Events for Juan Carlos Navarro
BEGIN:VTIMEZONE
TZID:Europe/Berlin
BEGIN:DAYLIGHT
TZOFFSETFROM:+0100
TZOFFSETTO:+0200
TZNAME:CEST
DTSTART:20200329T010000
END:DAYLIGHT
BEGIN:STANDARD
TZOFFSETFROM:+0200
TZOFFSETTO:+0100
TZNAME:CET
DTSTART:20201025T010000
END:STANDARD
END:VTIMEZONE
BEGIN:VEVENT
DTSTART;TZID=Europe/Berlin:20201225T150000
DTEND;TZID=Europe/Berlin:20201226T150000
DTSTAMP:20260421T195119
CREATED:20201208T211108Z
LAST-MODIFIED:20201208T211108Z
UID:750-1608908400-1608994800@www.carlosnavarro.de
SUMMARY:Navidad Nuestra
DESCRIPTION:Weinachtskantate mit dem Chor Münster \nOnline Stream
URL:https://www.carlosnavarro.de/termin/navidad-nuestra/
END:VEVENT
END:VCALENDAR