BEGIN:VCALENDAR
VERSION:2.0
PRODID:-//Juan Carlos Navarro - ECPv5.8.1//NONSGML v1.0//EN
CALSCALE:GREGORIAN
METHOD:PUBLISH
X-WR-CALNAME:Juan Carlos Navarro
X-ORIGINAL-URL:https://www.carlosnavarro.de
X-WR-CALDESC:Events for Juan Carlos Navarro
BEGIN:VTIMEZONE
TZID:Europe/Berlin
BEGIN:DAYLIGHT
TZOFFSETFROM:+0100
TZOFFSETTO:+0200
TZNAME:CEST
DTSTART:20200329T010000
END:DAYLIGHT
BEGIN:STANDARD
TZOFFSETFROM:+0200
TZOFFSETTO:+0100
TZNAME:CET
DTSTART:20201025T010000
END:STANDARD
END:VTIMEZONE
BEGIN:VEVENT
DTSTART;TZID=Europe/Berlin:20200906T180000
DTEND;TZID=Europe/Berlin:20200906T180000
DTSTAMP:20260421T214030
CREATED:20200609T092557Z
LAST-MODIFIED:20200609T092649Z
UID:738-1599415200-1599415200@www.carlosnavarro.de
SUMMARY:Niederrhein Musikfestival
DESCRIPTION:Classica Latina
URL:https://www.carlosnavarro.de/termin/niederrhein-musikfestival-2/
LOCATION:Schloß Dyck
END:VEVENT
END:VCALENDAR