BEGIN:VCALENDAR
VERSION:2.0
PRODID:-//Juan Carlos Navarro - ECPv5.8.1//NONSGML v1.0//EN
CALSCALE:GREGORIAN
METHOD:PUBLISH
X-WR-CALNAME:Juan Carlos Navarro
X-ORIGINAL-URL:https://www.carlosnavarro.de
X-WR-CALDESC:Events for Juan Carlos Navarro
BEGIN:VTIMEZONE
TZID:Europe/Berlin
BEGIN:DAYLIGHT
TZOFFSETFROM:+0100
TZOFFSETTO:+0200
TZNAME:CEST
DTSTART:20200329T010000
END:DAYLIGHT
BEGIN:STANDARD
TZOFFSETFROM:+0200
TZOFFSETTO:+0100
TZNAME:CET
DTSTART:20201025T010000
END:STANDARD
END:VTIMEZONE
BEGIN:VEVENT
DTSTART;TZID=Europe/Berlin:20200906T160000
DTEND;TZID=Europe/Berlin:20200906T170000
DTSTAMP:20260421T214357
CREATED:20191231T205157Z
LAST-MODIFIED:20200609T092713Z
UID:726-1599408000-1599411600@www.carlosnavarro.de
SUMMARY:Niederrhein Musikfestival
DESCRIPTION:Classica Latina
URL:https://www.carlosnavarro.de/termin/niederrhein-musikfestival/
LOCATION:Schloß Dyck
END:VEVENT
END:VCALENDAR