BEGIN:VCALENDAR
VERSION:2.0
PRODID:-//Juan Carlos Navarro - ECPv5.8.1//NONSGML v1.0//EN
CALSCALE:GREGORIAN
METHOD:PUBLISH
X-WR-CALNAME:Juan Carlos Navarro
X-ORIGINAL-URL:https://www.carlosnavarro.de
X-WR-CALDESC:Events for Juan Carlos Navarro
BEGIN:VTIMEZONE
TZID:Europe/Berlin
BEGIN:DAYLIGHT
TZOFFSETFROM:+0100
TZOFFSETTO:+0200
TZNAME:CEST
DTSTART:20190331T010000
END:DAYLIGHT
BEGIN:STANDARD
TZOFFSETFROM:+0200
TZOFFSETTO:+0100
TZNAME:CET
DTSTART:20191027T010000
END:STANDARD
END:VTIMEZONE
BEGIN:VEVENT
DTSTART;TZID=Europe/Berlin:20190922T180000
DTEND;TZID=Europe/Berlin:20190922T200000
DTSTAMP:20260422T003634
CREATED:20190726T150151Z
LAST-MODIFIED:20190726T150151Z
UID:662-1569175200-1569182400@www.carlosnavarro.de
SUMMARY:Paderborn
DESCRIPTION:Mit dem Gitarrenensemble der TU Dortmund
URL:https://www.carlosnavarro.de/termin/paderborn/
END:VEVENT
END:VCALENDAR