BEGIN:VCALENDAR
VERSION:2.0
PRODID:-//Juan Carlos Navarro - ECPv5.8.1//NONSGML v1.0//EN
CALSCALE:GREGORIAN
METHOD:PUBLISH
X-WR-CALNAME:Juan Carlos Navarro
X-ORIGINAL-URL:https://www.carlosnavarro.de
X-WR-CALDESC:Events for Juan Carlos Navarro
BEGIN:VTIMEZONE
TZID:Europe/Berlin
BEGIN:DAYLIGHT
TZOFFSETFROM:+0100
TZOFFSETTO:+0200
TZNAME:CEST
DTSTART:20240331T010000
END:DAYLIGHT
BEGIN:STANDARD
TZOFFSETFROM:+0200
TZOFFSETTO:+0100
TZNAME:CET
DTSTART:20241027T010000
END:STANDARD
END:VTIMEZONE
BEGIN:VEVENT
DTSTART;TZID=Europe/Berlin:20240825T180000
DTEND;TZID=Europe/Berlin:20240825T200000
DTSTAMP:20260421T124420
CREATED:20240817T210416Z
LAST-MODIFIED:20240817T210416Z
UID:1317-1724608800-1724616000@www.carlosnavarro.de
SUMMARY:Schloß Dyck - Jüchen
DESCRIPTION:Faszination Amazonas – Niederrhein Musikfestival
URL:https://www.carlosnavarro.de/termin/schlos-dyck-juchen/
END:VEVENT
END:VCALENDAR