BEGIN:VCALENDAR
VERSION:2.0
PRODID:-//Juan Carlos Navarro - ECPv5.8.1//NONSGML v1.0//EN
CALSCALE:GREGORIAN
METHOD:PUBLISH
X-WR-CALNAME:Juan Carlos Navarro
X-ORIGINAL-URL:https://www.carlosnavarro.de
X-WR-CALDESC:Events for Juan Carlos Navarro
BEGIN:VTIMEZONE
TZID:Europe/Berlin
BEGIN:DAYLIGHT
TZOFFSETFROM:+0100
TZOFFSETTO:+0200
TZNAME:CEST
DTSTART:20180325T010000
END:DAYLIGHT
BEGIN:STANDARD
TZOFFSETFROM:+0200
TZOFFSETTO:+0100
TZNAME:CET
DTSTART:20181028T010000
END:STANDARD
END:VTIMEZONE
BEGIN:VEVENT
DTSTART;TZID=Europe/Berlin:20180721T193000
DTEND;TZID=Europe/Berlin:20180721T213000
DTSTAMP:20260422T040832
CREATED:20171219T103407Z
LAST-MODIFIED:20171219T104025Z
UID:384-1532201400-1532208600@www.carlosnavarro.de
SUMMARY:Schwerte
DESCRIPTION:Mit dem Arie Duo \nGitarrensymposium Iserlohn
URL:https://www.carlosnavarro.de/termin/schwerte/
END:VEVENT
END:VCALENDAR