BEGIN:VCALENDAR
VERSION:2.0
PRODID:-//Juan Carlos Navarro - ECPv5.8.1//NONSGML v1.0//EN
CALSCALE:GREGORIAN
METHOD:PUBLISH
X-WR-CALNAME:Juan Carlos Navarro
X-ORIGINAL-URL:https://www.carlosnavarro.de
X-WR-CALDESC:Events for Juan Carlos Navarro
BEGIN:VTIMEZONE
TZID:Europe/Berlin
BEGIN:DAYLIGHT
TZOFFSETFROM:+0100
TZOFFSETTO:+0200
TZNAME:CEST
DTSTART:20190331T010000
END:DAYLIGHT
BEGIN:STANDARD
TZOFFSETFROM:+0200
TZOFFSETTO:+0100
TZNAME:CET
DTSTART:20191027T010000
END:STANDARD
END:VTIMEZONE
BEGIN:VEVENT
DTSTART;TZID=Europe/Berlin:20191109T000000
DTEND;TZID=Europe/Berlin:20191109T000000
DTSTAMP:20260422T005250
CREATED:20190225T113819Z
LAST-MODIFIED:20191114T093732Z
UID:624-1573257600-1573257600@www.carlosnavarro.de
SUMMARY:Steinhagen
DESCRIPTION:
URL:https://www.carlosnavarro.de/termin/steinhagen/
END:VEVENT
END:VCALENDAR