BEGIN:VCALENDAR
VERSION:2.0
PRODID:-//Juan Carlos Navarro - ECPv5.8.1//NONSGML v1.0//EN
CALSCALE:GREGORIAN
METHOD:PUBLISH
X-WR-CALNAME:Juan Carlos Navarro
X-ORIGINAL-URL:https://www.carlosnavarro.de
X-WR-CALDESC:Events for Juan Carlos Navarro
BEGIN:VTIMEZONE
TZID:America/Lima
BEGIN:STANDARD
TZOFFSETFROM:-0500
TZOFFSETTO:-0500
TZNAME:-05
DTSTART:20180101T000000
END:STANDARD
END:VTIMEZONE
BEGIN:VEVENT
DTSTART;TZID=America/Lima:20180629T000000
DTEND;TZID=America/Lima:20180629T000000
DTSTAMP:20260422T071932
CREATED:20180502T210544Z
LAST-MODIFIED:20180502T213316Z
UID:469-1530230400-1530230400@www.carlosnavarro.de
SUMMARY:Trujillo - Perú
DESCRIPTION:
URL:https://www.carlosnavarro.de/termin/trujillo-peru/
END:VEVENT
END:VCALENDAR